BEGIN:VCALENDAR
VERSION:2.0
PRODID:-//wmmi.org//NONSGML kigkonsult.se iCalcreator 2.30.10//
CALSCALE:GREGORIAN
METHOD:PUBLISH
UID:c117e448-7d21-400a-84af-a74bff5b80f0
X-WR-CALDESC:Come join us for our fundraising event: Farming & Ranching Fam
 ily Day on August 24th\, 10am-3pm.\n\nWe will have farming and ranching ex
 hibits\, hayrides\, gold panning\, stamp mill operation\, blacksmith\, and
  machine demos.\n\nAlso joining us:\nGingersnap Rescue Ranch\, Dianne's Da
 hlias\, Our Red Barn Ranch\, Palmer Land Conservancy\, Heritage Belle Farm
 s\, Manitou Springs Seed Library\, Twig & Berry Dyes\, Pikes Peak Beekeepe
 rs Association\, and Smokey the Pig Food Truck.\n\nOnly $5 per car for all
  outside events! Purchase at the gate or online.\n\nWe can't wait to see y
 ou there!\nMuseum Members are free!\n*Regular admission applies for the mu
 seum
X-WR-RELCALID:0caa34b23a0942e64c0f139b31df13da
X-WR-TIMEZONE:America/Denver
BEGIN:VTIMEZONE
TZID:America/Denver
BEGIN:STANDARD
TZNAME:MST
DTSTART:20231105T020000
TZOFFSETFROM:-0600
TZOFFSETTO:-0700
RDATE:20241103T020000
RDATE:20251102T020000
END:STANDARD
BEGIN:DAYLIGHT
TZNAME:MDT
DTSTART:20240310T020000
TZOFFSETFROM:-0700
TZOFFSETTO:-0600
RDATE:20250309T020000
END:DAYLIGHT
END:VTIMEZONE
BEGIN:VEVENT
UID:9d0c00ca-d978-4cad-8be8-e4115c7e0dd8
DTSTAMP:20260421T092654Z
DESCRIPTION:Come join us for our fundraising event: Farming & Ranching Fami
 ly Day on August 24th\, 10am-3pm.\n\nWe will have farming and ranching exh
 ibits\, hayrides\, gold panning\, stamp mill operation\, blacksmith\, and 
 machine demos.\n\nAlso joining us:\nGingersnap Rescue Ranch\, Dianne's Dah
 lias\, Our Red Barn Ranch\, Palmer Land Conservancy\, Heritage Belle Farms
 \, Manitou Springs Seed Library\, Twig & Berry Dyes\, Pikes Peak Beekeeper
 s Association\, and Smokey the Pig Food Truck.\n\nOnly $5 per car for all 
 outside events! Purchase at the gate or online.\n\nWe can't wait to see yo
 u there!\nMuseum Members are free!\n*Regular admission applies for the mus
 eum
DTSTART;TZID=America/Denver:20240824T100000
DTEND;TZID=America/Denver:20240824T150000
LOCATION:225 N Gate Blvd\, Colorado Springs\, CO 80921 US
SUMMARY:Family Day Farming & Ranching
END:VEVENT
END:VCALENDAR
