BEGIN:VCALENDAR
VERSION:2.0
PRODID:-//wmmi.org//NONSGML kigkonsult.se iCalcreator 2.30.10//
CALSCALE:GREGORIAN
METHOD:PUBLISH
UID:7a1db5bf-c2f1-4908-b945-d38b164d4fa4
X-WR-CALDESC:
X-WR-RELCALID:d5f04376d11818126ceb227d626f95be
X-WR-TIMEZONE:America/Chicago
BEGIN:VTIMEZONE
TZID:America/Chicago
BEGIN:STANDARD
TZNAME:CST
DTSTART:20211107T020000
TZOFFSETFROM:-0500
TZOFFSETTO:-0600
RDATE:20221106T020000
RDATE:20231105T020000
END:STANDARD
BEGIN:DAYLIGHT
TZNAME:CDT
DTSTART:20220313T020000
TZOFFSETFROM:-0600
TZOFFSETTO:-0500
RDATE:20230312T020000
END:DAYLIGHT
END:VTIMEZONE
BEGIN:VEVENT
UID:866a2393-89a3-49fa-88ca-1ea7522fc2ba
DTSTAMP:20260421T145503Z
DESCRIPTION:
DTSTART;TZID=America/Chicago:20220725T093000
DTEND;TZID=America/Chicago:20220725T103000
LOCATION:
SUMMARY:PPLD Story Time & Bookmobile
END:VEVENT
END:VCALENDAR
