BEGIN:VCALENDAR
VERSION:2.0
PRODID:-//wmmi.org//NONSGML kigkonsult.se iCalcreator 2.30.10//
CALSCALE:GREGORIAN
METHOD:PUBLISH
UID:49eaa6d4-3ec7-49fb-b17e-4506636b6ad3
X-WR-CALDESC:
X-WR-RELCALID:3eeae3f2ca06c6a31c24713a68f38d8f
X-WR-TIMEZONE:America/Chicago
BEGIN:VTIMEZONE
TZID:America/Chicago
BEGIN:STANDARD
TZNAME:CST
DTSTART:20211107T020000
TZOFFSETFROM:-0500
TZOFFSETTO:-0600
RDATE:20221106T020000
RDATE:20231105T020000
END:STANDARD
BEGIN:DAYLIGHT
TZNAME:CDT
DTSTART:20220313T020000
TZOFFSETFROM:-0600
TZOFFSETTO:-0500
RDATE:20230312T020000
END:DAYLIGHT
END:VTIMEZONE
BEGIN:VEVENT
UID:5359ca7e-5370-4844-a8a9-4624b1c035dc
DTSTAMP:20260421T151547Z
DESCRIPTION:
DTSTART;TZID=America/Chicago:20220725T090000
DTEND;TZID=America/Chicago:20220725T180000
LOCATION:225 North Gate Blvd\, colorado springs\, CO 80921 US
SUMMARY:Monday Farmers Market
END:VEVENT
END:VCALENDAR
