BEGIN:VCALENDAR
VERSION:2.0
PRODID:-//wmmi.org//NONSGML kigkonsult.se iCalcreator 2.30.10//
CALSCALE:GREGORIAN
METHOD:PUBLISH
UID:5d5c5884-6866-49a0-9658-1e0666438139
X-WR-CALDESC:
X-WR-RELCALID:d2461972b17241bf996ca84bc35b6962
X-WR-TIMEZONE:America/Chicago
BEGIN:VTIMEZONE
TZID:America/Chicago
BEGIN:STANDARD
TZNAME:CST
DTSTART:20211107T020000
TZOFFSETFROM:-0500
TZOFFSETTO:-0600
RDATE:20221106T020000
RDATE:20231105T020000
END:STANDARD
BEGIN:DAYLIGHT
TZNAME:CDT
DTSTART:20220313T020000
TZOFFSETFROM:-0600
TZOFFSETTO:-0500
RDATE:20230312T020000
END:DAYLIGHT
END:VTIMEZONE
BEGIN:VEVENT
UID:232d6bd9-7352-4705-ab59-244137d2c720
DTSTAMP:20260421T152031Z
DESCRIPTION:
DTSTART;TZID=America/Chicago:20220718T090000
DTEND;TZID=America/Chicago:20220718T180000
LOCATION:
SUMMARY:Monday Farmers Market
END:VEVENT
END:VCALENDAR
