BEGIN:VCALENDAR
VERSION:2.0
PRODID:-//wmmi.org//NONSGML kigkonsult.se iCalcreator 2.30.10//
CALSCALE:GREGORIAN
METHOD:PUBLISH
UID:73932537-8a62-492d-be08-bd459950ee67
X-WR-CALDESC:Perennial Favorite Jack Anthony will speak about Colorado Spri
 ngs History
X-WR-RELCALID:e42ebb45b66ac5aebcfa01a2397fdd9e
X-WR-TIMEZONE:America/Denver
BEGIN:VTIMEZONE
TZID:America/Denver
BEGIN:STANDARD
TZNAME:MST
DTSTART:20211107T020000
TZOFFSETFROM:-0600
TZOFFSETTO:-0700
RDATE:20221106T020000
RDATE:20231105T020000
END:STANDARD
BEGIN:DAYLIGHT
TZNAME:MDT
DTSTART:20220313T020000
TZOFFSETFROM:-0700
TZOFFSETTO:-0600
RDATE:20230312T020000
END:DAYLIGHT
END:VTIMEZONE
BEGIN:VEVENT
UID:dbc6d5a0-fb05-44df-8d43-cedcb00d0f4b
DTSTAMP:20260421T145421Z
DESCRIPTION:Perennial Favorite Jack Anthony will speak about Colorado Sprin
 gs History
DTSTART;TZID=America/Denver:20220712T160000
DTEND;TZID=America/Denver:20220712T170000
LOCATION:225 North Gate Blvd\, colorado springs\, CO 80921 US
SUMMARY:Speakers Bureau Monthly Lecture Series
END:VEVENT
END:VCALENDAR
