BEGIN:VCALENDAR
VERSION:2.0
PRODID:-//wmmi.org//NONSGML kigkonsult.se iCalcreator 2.30.10//
CALSCALE:GREGORIAN
METHOD:PUBLISH
UID:0584fe54-ab9a-46ba-823c-06307174ac45
X-WR-CALDESC:
X-WR-RELCALID:d0af853b048d16b257733907c3202c2f
X-WR-TIMEZONE:America/Chicago
BEGIN:VTIMEZONE
TZID:America/Chicago
BEGIN:STANDARD
TZNAME:CST
DTSTART:20211107T020000
TZOFFSETFROM:-0500
TZOFFSETTO:-0600
RDATE:20221106T020000
RDATE:20231105T020000
END:STANDARD
BEGIN:DAYLIGHT
TZNAME:CDT
DTSTART:20220313T020000
TZOFFSETFROM:-0600
TZOFFSETTO:-0500
RDATE:20230312T020000
END:DAYLIGHT
END:VTIMEZONE
BEGIN:VEVENT
UID:f2bb8341-c38b-4de3-96b4-874b309f2ab6
DTSTAMP:20260421T145459Z
DESCRIPTION:
DTSTART;TZID=America/Chicago:20220711T090000
DTEND;TZID=America/Chicago:20220711T180000
LOCATION:
SUMMARY:Monday Farmers Market
END:VEVENT
END:VCALENDAR
