BEGIN:VCALENDAR
VERSION:2.0
PRODID:-//wmmi.org//NONSGML kigkonsult.se iCalcreator 2.30.10//
CALSCALE:GREGORIAN
METHOD:PUBLISH
UID:573b8dca-b1c2-4f82-9c8d-9c7d89baac4c
X-WR-CALDESC:
X-WR-RELCALID:5ee2b0845937e4d1824dbeae1396f0d1
X-WR-TIMEZONE:America/Denver
BEGIN:VTIMEZONE
TZID:America/Denver
BEGIN:STANDARD
TZNAME:MST
DTSTART:20211107T020000
TZOFFSETFROM:-0600
TZOFFSETTO:-0700
RDATE:20221106T020000
RDATE:20231105T020000
END:STANDARD
BEGIN:DAYLIGHT
TZNAME:MDT
DTSTART:20220313T020000
TZOFFSETFROM:-0700
TZOFFSETTO:-0600
RDATE:20230312T020000
END:DAYLIGHT
END:VTIMEZONE
BEGIN:VEVENT
UID:5117198e-2e3d-401d-bdaa-9d805dacf5fd
DTSTAMP:20260421T144946Z
DESCRIPTION:
DTSTART;TZID=America/Denver:20220709T100000
DTEND;TZID=America/Denver:20220709T150000
LOCATION:225 North Gate Blvd\, colorado springs\, CO 80921 US
SUMMARY:Family Day: Industry (Outdoor Machinery Demonstration)
END:VEVENT
END:VCALENDAR
