BEGIN:VCALENDAR
VERSION:2.0
PRODID:-//wmmi.org//NONSGML kigkonsult.se iCalcreator 2.30.10//
CALSCALE:GREGORIAN
METHOD:PUBLISH
UID:5a20051f-2a26-44b3-9e65-74ca92d835c1
X-WR-CALDESC:
X-WR-RELCALID:d9badee66a56ebbaad61d58d2fa72b00
X-WR-TIMEZONE:America/Denver
BEGIN:VTIMEZONE
TZID:America/Denver
BEGIN:STANDARD
TZNAME:MST
DTSTART:20211107T020000
TZOFFSETFROM:-0600
TZOFFSETTO:-0700
RDATE:20221106T020000
RDATE:20231105T020000
END:STANDARD
BEGIN:DAYLIGHT
TZNAME:MDT
DTSTART:20220313T020000
TZOFFSETFROM:-0700
TZOFFSETTO:-0600
RDATE:20230312T020000
END:DAYLIGHT
END:VTIMEZONE
BEGIN:VEVENT
UID:4099a3a5-d91c-4eff-bf85-b113dd82bcfb
DTSTAMP:20260421T145030Z
DESCRIPTION:
DTSTART;TZID=America/Denver:20220704T090000
DTEND;TZID=America/Denver:20220704T160000
LOCATION:
SUMMARY:July 4th--Open Regular Hours
END:VEVENT
END:VCALENDAR
