BEGIN:VCALENDAR
VERSION:2.0
PRODID:-//wmmi.org//NONSGML kigkonsult.se iCalcreator 2.30.10//
CALSCALE:GREGORIAN
METHOD:PUBLISH
UID:f8627c12-0f9a-4fa1-bf8c-3faab913133c
X-WR-CALDESC:
X-WR-RELCALID:049ead94f6c7e81be2703465b556efec
X-WR-TIMEZONE:America/Chicago
BEGIN:VTIMEZONE
TZID:America/Chicago
BEGIN:STANDARD
TZNAME:CST
DTSTART:20211107T020000
TZOFFSETFROM:-0500
TZOFFSETTO:-0600
RDATE:20221106T020000
RDATE:20231105T020000
END:STANDARD
BEGIN:DAYLIGHT
TZNAME:CDT
DTSTART:20220313T020000
TZOFFSETFROM:-0600
TZOFFSETTO:-0500
RDATE:20230312T020000
END:DAYLIGHT
END:VTIMEZONE
BEGIN:VEVENT
UID:30435c1e-db13-4579-bbd1-4c3ded41b956
DTSTAMP:20260421T163010Z
DESCRIPTION:
DTSTART;TZID=America/Chicago:20220620T000000
DTEND;TZID=America/Chicago:20220625T005900
LOCATION:
SUMMARY:Summer STEaM CAMP
END:VEVENT
END:VCALENDAR
