BEGIN:VCALENDAR
VERSION:2.0
PRODID:-//wmmi.org//NONSGML kigkonsult.se iCalcreator 2.30.10//
CALSCALE:GREGORIAN
METHOD:PUBLISH
UID:7ce935ef-56f6-4265-b187-6f5ae31aefda
X-WR-CALDESC:
X-WR-RELCALID:adcd8f817b024e7101368444f4184560
X-WR-TIMEZONE:America/Denver
BEGIN:VTIMEZONE
TZID:America/Denver
BEGIN:STANDARD
TZNAME:MST
DTSTART:20211107T020000
TZOFFSETFROM:-0600
TZOFFSETTO:-0700
RDATE:20221106T020000
RDATE:20231105T020000
END:STANDARD
BEGIN:DAYLIGHT
TZNAME:MDT
DTSTART:20220313T020000
TZOFFSETFROM:-0700
TZOFFSETTO:-0600
RDATE:20230312T020000
END:DAYLIGHT
END:VTIMEZONE
BEGIN:VEVENT
UID:bd0e3eb7-c837-462a-bad3-e48270c3c95e
DTSTAMP:20260421T163136Z
DESCRIPTION:
DTSTART;TZID=America/Denver:20220614T160000
DTEND;TZID=America/Denver:20220614T170000
LOCATION:
SUMMARY:Speakers Bureau Lecture Series
END:VEVENT
END:VCALENDAR
