BEGIN:VCALENDAR
VERSION:2.0
PRODID:-//wmmi.org//NONSGML kigkonsult.se iCalcreator 2.30.10//
CALSCALE:GREGORIAN
METHOD:PUBLISH
UID:de9f9989-afaa-448d-b293-41331c7c9176
X-WR-CALDESC:
X-WR-RELCALID:48411582d198c700c9723d8f6f8d4994
X-WR-TIMEZONE:America/Chicago
BEGIN:VTIMEZONE
TZID:America/Chicago
BEGIN:STANDARD
TZNAME:CST
DTSTART:20211107T020000
TZOFFSETFROM:-0500
TZOFFSETTO:-0600
RDATE:20221106T020000
RDATE:20231105T020000
END:STANDARD
BEGIN:DAYLIGHT
TZNAME:CDT
DTSTART:20220313T020000
TZOFFSETFROM:-0600
TZOFFSETTO:-0500
RDATE:20230312T020000
END:DAYLIGHT
END:VTIMEZONE
BEGIN:VEVENT
UID:b7786464-6038-4081-a0a8-f75a8b8b3d4a
DTSTAMP:20260421T124804Z
DESCRIPTION:
DTSTART;TZID=America/Chicago:20220611T100000
DTEND;TZID=America/Chicago:20220611T150000
LOCATION:
SUMMARY:Family Day: Science (Outdoor Machinery Demonstrations)
END:VEVENT
END:VCALENDAR
