BEGIN:VCALENDAR
VERSION:2.0
PRODID:-//wmmi.org//NONSGML kigkonsult.se iCalcreator 2.30.10//
CALSCALE:GREGORIAN
METHOD:PUBLISH
UID:a6070ece-63a5-414a-9388-dcafcb82caee
X-WR-CALDESC:We are proud to honor all Active Duty Military on Armed Forces
  Day 2021.   \nAdmission is FREE for all Active Duty Military\,  just plea
 se show your ID upon arrival.
X-WR-RELCALID:cd4aac4c689fa72800f0815ede7180bd
X-WR-TIMEZONE:America/Denver
BEGIN:VTIMEZONE
TZID:America/Denver
BEGIN:STANDARD
TZNAME:MST
DTSTART:20201101T020000
TZOFFSETFROM:-0600
TZOFFSETTO:-0700
RDATE:20211107T020000
RDATE:20221106T020000
END:STANDARD
BEGIN:DAYLIGHT
TZNAME:MDT
DTSTART:20210314T020000
TZOFFSETFROM:-0700
TZOFFSETTO:-0600
RDATE:20220313T020000
END:DAYLIGHT
END:VTIMEZONE
BEGIN:VEVENT
UID:35aff396-ec65-4e90-9dfa-e77dd1e9bbc3
DTSTAMP:20260424T100400Z
DESCRIPTION:We are proud to honor all Active Duty Military on Armed Forces 
 Day 2021.   \nAdmission is FREE for all Active Duty Military\,  just pleas
 e show your ID upon arrival.
DTSTART;TZID=America/Denver:20210515T090000
DTEND;TZID=America/Denver:20210515T160000
LOCATION:
SUMMARY:Armed Forces Day
END:VEVENT
END:VCALENDAR
