BEGIN:VCALENDAR
VERSION:2.0
PRODID:-//wmmi.org//NONSGML kigkonsult.se iCalcreator 2.30.10//
CALSCALE:GREGORIAN
METHOD:PUBLISH
UID:13d3bd9e-ff54-47bb-a94a-8eb6ee4dc997
X-WR-CALDESC:The Museum is OPEN 9am - 4pm. Tours at 10am and 1pm.
X-WR-RELCALID:4318c10512448642edba79e1fd580f6f
X-WR-TIMEZONE:America/Denver
BEGIN:VTIMEZONE
TZID:America/Denver
BEGIN:STANDARD
TZNAME:MST
DTSTART:20191103T020000
TZOFFSETFROM:-0600
TZOFFSETTO:-0700
RDATE:20201101T020000
RDATE:20211107T020000
END:STANDARD
BEGIN:DAYLIGHT
TZNAME:MDT
DTSTART:20200308T020000
TZOFFSETFROM:-0700
TZOFFSETTO:-0600
RDATE:20210314T020000
RDATE:20220313T020000
END:DAYLIGHT
END:VTIMEZONE
BEGIN:VEVENT
UID:4f6853ee-c005-4340-a61a-38c102659d08
DTSTAMP:20260421T093031Z
DESCRIPTION:The Museum is OPEN 9am - 4pm. Tours at 10am and 1pm.
DTSTART;TZID=America/Denver:20201102T090000
DTEND;TZID=America/Denver:20201102T160000
LOCATION:
SUMMARY:Museum OPEN
END:VEVENT
END:VCALENDAR
